BEGIN:VCALENDAR
PRODID:-//vBulletin 6//EN
VERSION:2.0
CALSCALE:GREGORIAN
BEGIN:VEVENT
UID:272c40af-2abc-4e4f-b2c8-f9a1f2df430c
DTSTAMP:20260422T215423Z
SUMMARY:IoT Village CTF\, Saturday 10:00-18:00
DESCRIPTION:.. [/URL]\n \n\n\n\n\n\n..\nIoT Village CTF\nFriday: 10:00 - 18
 :00\nSaturday: 10:00 - 18:00\nSunday : 10:00 - 14:00\n\nIOT Village\, Foru
 m | https://scoreboard.iotvillage.org/ (filedata/fetch?id=245350&d=1684547
 242)\nDEF CON Discord: [URL]https://discord.com/channels/70820826769994550
 3/711644307597164665\n\nHosted in IoT Village\, teams of 1-6 players compe
 te against one another by exploiting off-the-shelf IoT devices. This has b
 een completely redesigned from previous contests\, and features real-world
  devices that all have real-world vulnerabilities with real-world impacts.
 \n\nThis CTF is open to anyone! It is approachable for entry level people 
 to experience getting their first root shell on IoT\, but to really advanc
 e in this CTF teams will need to perform detailed vulnerability research\,
  hardware hacking\, firmware analysis\, reverse engineering\, and limited 
 exploit development.\n\nCTFs are a great experience to learn more about se
 curity and test your skills\, and the IoT CTF provides the most realistic 
 hacking experience around! So\, join up in a team (or even by yourself) an
 d compete for fun and prizes! Exploit as many as you can during the con an
 d the top three teams will be rewarded.​​​
URL:https://forum.defcon.org/node/245353
DTSTART:20230812T180000Z
DTEND:20230813T020001Z
LOCATION:IoT Village
END:VEVENT
END:VCALENDAR
