BEGIN:VCALENDAR
PRODID:-//vBulletin 6//EN
VERSION:2.0
CALSCALE:GREGORIAN
BEGIN:VEVENT
UID:1c34d9b2-dc58-48e3-bed0-bdeb263d6f38
DTSTAMP:20260422T162310Z
SUMMARY:pTFS Presents: Mayhem Industries – Starphish\, Sunday 10:00-12:00
DESCRIPTION:..\n..\npTFS Presents: Mayhem Industries – Starphish\nFriday 
 10:00 - 18:00\nSaturday 10:00 - 18:00\nSunday 10:00 - 12:00\nDEF CON Conte
 st Area\, Forum Ballroom​\nDEF CON Contest Area\, Forum Ballroom\n\nhttp
 s://ptfs.team/dc31\n.. \n \n\n..​\n\nDo you have what it takes to go up 
 against Mayhem Industries' latest maleficent project? Starphish Ltd. is up
  to no good in that way that only corporations can be. They've got five Di
 visions\, which means you've got five opportunities to shut them down!\n\n
 It won't be easy. You'll be directing a team of infiltrators through incre
 asingly difficult challenges. What sort of challenges? Depends on the Divi
 sion. Engineering is full of crunchy hacking challenges. HR's got the good
 s on social engineering. Finance'll be data processing the whole way.\n\nA
 nd the C-suite? Most dangerous of all… We've never been able to get an o
 perative inside\, so they could be anything. We're counting on you.\n\n..\
 n{"data-align":"none"\,"data-size":"full"\,"src":"https:\\/\\/forum.defcon
 .org\\/images\\/defcon-main\\/dc31\\/villages\\/starphish\\/headquarters.p
 ng"}\n\n..\n\nStarphish is a fun and interactive jeopardy style CTF contes
 t. Don't worry if you don't know what that means. Winning will require dem
 onstrating a wide range of hacking skills\, but participating is encourage
 d for all ability levels. Challenges range from simple puzzles\, to challe
 nging crypto problems\, to truly phishy hijinks.\n\npTFS is a hacker colle
 ctive that has been competing in various DEF CON contests for almost 15 ye
 ars.​​
URL:https://forum.defcon.org/node/245369
DTSTART:20230813T180000Z
DTEND:20230813T200001Z
LOCATION:DEF CON Contest Area\, Forum Ballroom
END:VEVENT
END:VCALENDAR
