BEGIN:VCALENDAR
PRODID:-//vBulletin 6//EN
VERSION:2.0
CALSCALE:GREGORIAN
BEGIN:VEVENT
UID:27688a98-d7a0-4f94-af91-51381607cc87
DTSTAMP:20260425T172325Z
SUMMARY:The Dark Tangent Look-Alike Contest\, Saturday 10:00-18:00
DESCRIPTION:..\n..\nThe Dark Tangent Look-Alike Contest\nFriday 10:00 - 18:
 00\nSaturday 10:00 - 18:00\nSunday 10:00 - 12:00\nDEF CON Contest Area\, F
 orum Ballroom​\n\nThe Dark Tangent Look A-like Contest is a creative opp
 ortunity for DEF CON attendees to put their non-technical hacking skills t
 o the test. As a contestant in The Dark Tangent Look A-like Contest\, you 
 will be judged based on your appearance\, mannerisms\, efforts\, and overa
 ll persuasiveness. Can you assume another identity? Can you look\, walk\, 
 talk\, and act like Dark Tangent? Can you become THE DARK TANGENT?​​
URL:https://forum.defcon.org/node/245405
DTSTART:20230812T180000Z
DTEND:20230813T020001Z
LOCATION:DEF CON Contest Area\, Forum Ballroom
END:VEVENT
END:VCALENDAR
