BEGIN:VCALENDAR
PRODID:-//vBulletin 6//EN
VERSION:2.0
CALSCALE:GREGORIAN
BEGIN:VEVENT
UID:cae50941-8457-42c8-985d-b51788f2846c
DTSTAMP:20260425T152942Z
SUMMARY:venator aurum - A Treasure Hunt\, Saturday 10:00-18:00
DESCRIPTION:.. [/URL]\n \n\n..\nvenator aurum - A Treasure Hunt\nFriday 10:
 00 - 18:00\nSaturday 10:00 - 18:00\nSunday 10:00 - 12:00\nDEF CON Contest 
 Area\, Forum Ballroom​\nWebsite: [URL]https://venatoraurum.org/ (filedat
 a/fetch?id=245524&d=1685480300)\n\nThrough interfacing with reality you ar
 e defining that reality. Rethink your senses and test your limits. Solve t
 he five layers and discover a hidden treasure. Each layer yields its own r
 eward\, but few will make it to the end of the hunt. For each of your sens
 es\, you will need to set aside preconceptions and look to the underlying 
 patterns within the data.​​
URL:https://forum.defcon.org/node/245432
DTSTART:20230812T180000Z
DTEND:20230813T020001Z
LOCATION:DEF CON Contest Area\, Forum Ballroom
END:VEVENT
END:VCALENDAR
