BEGIN:VCALENDAR
PRODID:-//vBulletin 6//EN
VERSION:2.0
CALSCALE:GREGORIAN
BEGIN:VEVENT
UID:ec62b8f6-cba0-4953-96b1-838a336f420d
DTSTAMP:20260425T152901Z
SUMMARY:Trace Labs OSINT Search Party CTF\, Friday 10:00-18:00
DESCRIPTION:.. [/URL]\n \n\n..\nTrace Labs OSINT Search Party CTF\nFriday: 
 10:00 - 18:00\nSaturday: 10:00 – 17:00\nDEF CON Contest Area\, Forum Bal
 lroom | Hybrid\n\n[URL]https://www.tracelabs.org/initiatives/search-party 
 (filedata/fetch?id=245538&d=1685566751)\nTwitter: @tracelabs​ (https://t
 witter.com/tracelabs%E2%80%8B)\nForum users that can provide authoritative
  comments or answer questions: Belouve\n\nThe Trace Labs Search Party CTF 
 is a non theoretical\, gamified effort that allows for the crowdsourcing o
 f contestants to perform a single task: Conduct open source intelligence o
 perations to help find missing persons\n\nYou can have teams of 1-4 people
 \, 4 person teams provide many benefits which include the coaching of more
  junior members. Often a great learning opportunity if you are able to pai
 r up with OSINT veterans. Get your team together\, stop by our booth for a
  registration code\, and join us at searchparty.tracelabs.org/register .
 ​.\n..​
URL:https://forum.defcon.org/node/245523
DTSTART:20230811T180000Z
DTEND:20230812T020001Z
LOCATION:DEF CON Contest Area\, Forum Ballroom
END:VEVENT
END:VCALENDAR
