BEGIN:VCALENDAR
PRODID:-//vBulletin 6//EN
VERSION:2.0
CALSCALE:GREGORIAN
BEGIN:VEVENT
UID:a8307a8d-5ae5-4dbc-a0db-706fecedd7d2
DTSTAMP:20260421T181104Z
SUMMARY:BlanketFort Con
DESCRIPTION:BlanketFort Con\nSaturday 19:00 – 01:00\nForum 130\nhttps://t
 witter.com/blanketfortcon\n\nBlanketFort Con: Come for the chill vibes and
  diversity\, stay for the Blanket Fort Building\, Cool Lights\, Music\, an
 d Kid Friendly\\Safe environment. Now with less Gluten and more animal one
 sies!\n\nhttps://twitter.com/blanketfortcon​
URL:https://forum.defcon.org/node/245836
DTSTART:20230813T030000Z
DTEND:20230813T090001Z
LOCATION:Forum 130
END:VEVENT
END:VCALENDAR
