BEGIN:VCALENDAR
PRODID:-//vBulletin 6//EN
VERSION:2.0
CALSCALE:GREGORIAN
BEGIN:VEVENT
UID:79bea734-0f03-4dee-a5ee-017137bddecf
DTSTAMP:20260425T110025Z
SUMMARY:Arnaud SOULLIE\, Alexandrine TORRENTS - Pentesting Inductiral Contr
 ol Systems: OCP-U-HACK
DESCRIPTION:Title: Arnaud SOULLIE\, Alexandrine TORRENTS - Pentesting Induc
 tiral Control Systems: OCP-U-HACK\n\nScheduled Date and Time (Pacific Stan
 dard): Thursday\, August 10\, 2023\, at 0900 PDT\n\nEventBrite Link: https
 ://www.eventbrite.com/e/arnaud-soullie-pentesting-inductiral-control-syste
 ms-ocp-u-hack-tickets-668356832277?aff=oddtdtcreator\n\nMax Class Size: 40
 \n\n\n\n\nAbstract:\n\nLet’s capture the flag\, literally! In this works
 hop you’ll participate in an engaging CTF during which you’ll take con
 trol of a robotic arm to capture a real flag on a model train!\n\n\n\n\nTo
  do so\, we’ll start with an introduction to Industrial Control Systems 
 to discover the specific components\, the network architectures\, and even
  program a PLC simulator.\n\n\n\n\nWe’ll then discover some ICS-specific
  protocols\, with a focus on OPC-UA\, a modern ICS protocol.\n\n\n\n\nFina
 lly\, you’ll connect to our ICS setup composed of real ICS hardware and 
 software and compete against other attendees to capture the flags with rob
 otic hands!\n\n\n\n\nSkill Level: Beginner\n\nPrerequisites for students: 
 No specific knowledge is required\n\n\n\n\nMaterials or Equipment students
  will need to bring to participate: Students should have a laptop capable 
 of running 64-bits virtual machines\n\n\n\n\nBio:\n\nArnaud Soullié (@arn
 audsoullie) is a Senior Manager at Wavestone\, a global consulting company
 . For 12 years\, he has been performing security assessments and pentests 
 on all types of targets. He started specializing in ICS cybersecurity 10 y
 ears ago. He spoke and taught workshops at numerous security conferences o
 n ICS topics : BlackHat Europe\, BruCon\, CS3STHLM\, BSides Las Vegas\, DE
 FCON... He is also the creator of the DYODE project\, an open­source data
  diode aimed at ICS. He has been teaching ICS cybersecurity training since
  2015.\n\n\n\n\nAlexandrine Torrents is a cybersecurity expert at Waveston
 e. She started as a penetration tester\, and performed several cybersecuri
 ty assessments on ICS. She worked on a few ICS models to demonstrate attac
 ks on PLCs and developed a particular tool to request Siemens PLCs. Then\,
  she started working at securing ICS\, especially in the scope of the Fren
 ch military law\, helping companies offering a vital service to the nation
  to comply with security rules. Now\, Alexandrine works with different ind
 ustrial CISOs on their cybersecurity projects: defining secure architectur
 es\, hardening systems\, implementing detection mechanisms. She is also IE
 C 62443 certified and still performs assessments on multiple environments.
 \n\n\n\n​
URL:https://forum.defcon.org/node/246022
DTSTART:20230810T170000Z
DTEND:20230810T210001Z
LOCATION:Las Vegas\, NV\, DEF CON 31
END:VEVENT
END:VCALENDAR
