BEGIN:VCALENDAR
PRODID:-//vBulletin 6//EN
VERSION:2.0
CALSCALE:GREGORIAN
BEGIN:VEVENT
UID:3067c284-a699-4709-9c42-4b1753726286
DTSTAMP:20260421T060544Z
SUMMARY:LHC: Badgelife / Sticker swap\, Saturday 1400-1700
DESCRIPTION:Lonely Hackers Club\n\nLocation: Harrah's Laughlin\n\nHours:\nF
 riday 1200-1800\nSaturday 1200-1800\n\nEvents:\nResume reviews & Career Ad
 vice 1200-1400\nBadgelife / Sticker swap 1400-1700\nName That Noob 1700-18
 00\n\nDescription:\nThe LHC\, established on Telegram years ago\, serves a
 s a warm and inclusive hub for newcomers heading to DefCon for the first t
 ime. With over 600 members worldwide\, our community has expanded signific
 antly. This year\, we're thrilled to provide a space that fosters connecti
 ons\, sharing\, and giving back to the DefCon community. Whether you need 
 a resume review\, career coaching\, or want to participate in sticker & ba
 dge trading\, we have you covered. And don't miss the exciting 'Name That 
 Noob' event\, where our seasoned hackers will help you craft a one-of-a-ki
 nd hacker handle. Embrace the welcoming atmosphere and join us for an unfo
 rgettable DefCon experience!​​
URL:https://forum.defcon.org/node/246685
DTSTART:20230812T220000Z
DTEND:20230813T010001Z
LOCATION:Harrah's Laughlin
END:VEVENT
END:VCALENDAR
