BEGIN:VCALENDAR
PRODID:-//vBulletin 6//EN
VERSION:2.0
CALSCALE:GREGORIAN
BEGIN:VEVENT
UID:e370d8f0-69be-462a-af64-0907e6bfd96a
DTSTAMP:20260422T145844Z
SUMMARY:Defcon.run\, Thursday 06:00-14:00
DESCRIPTION:.. [/URL]\n \n..\nDefcon.run\nEvent\nThursday/Sunday: 6:00 - 12
 :00 PDT\nLocation: Go to defcon.run (filedata/fetch?id=245541&d=1685590173
 ) for info\, but in general meet us in the Goldfield Room at 0600​\n\nIF
  the future is coming and it is! Then you're going to need to run! Get sta
 rted at defcon.run!\n\nDefcon.run is an evolution of the now long running 
 Defcon 4x5K running event. But now it's bigger and more fun! Due to stupen
 dous growth\, we’ve been forced to change up the format. This year's act
 ivity will look to match up folks for fun runs\, and rucks (!)\, in smalle
 r distributed groups around Las Vegas. It’s the same old event but at a 
 distributed scale! Show up in the morning to beat the heat\, go for a run 
 with folks\, have a good time!\n\nWe’ll have a full set of routes for pe
 ople to choose from from simple 5Ks to more ambitious distances.\nYou can 
 register to log your distance\, we'll have a leader board\, and shenanigan
 s! Full Information at https://defcon.run (https://defcon.run/)\n\nWeb: [U
 RL]https://defcon.run/\nTwitter: @defcon_run (https://twitter.com/defcon_r
 un)\nMastodon: https://defcon.social/@run\n..​
URL:https://forum.defcon.org/node/246717
DTSTART:20230810T140000Z
DTEND:20230810T220001Z
LOCATION:DEF CON\, Las Vegas
END:VEVENT
END:VCALENDAR
