BEGIN:VCALENDAR
PRODID:-//vBulletin 6//EN
VERSION:2.0
CALSCALE:GREGORIAN
BEGIN:VEVENT
UID:618bd061-f2c2-4f6d-baf0-fbf5eedf15b0
DTSTAMP:20260421T203609Z
SUMMARY:DEF CON 31 Beard and Mustache Contest
DESCRIPTION:DEF CON 31 Beard and Mustache Contest\n\nWhen: Saturday 14:00 -
  16:00\nWhere: Contest Stage\n\nWebsite: http://dcbeard.net/ (new domain t
 his year – update your favorites)\n\nTwitter: @DCBeardContest (https://t
 witter.com/DCBeardContest)\n\n\nHeld every year since DEF CON 19 in 2011 (
 R.I.P. Riviera)\, (Except during that COVID thing - but we are not going t
 o talk about that COVID thing)\, the DEF CON Beard and Mustache Contest hi
 ghlights the intersection of facial hair and hacker culture.\n\nFor 2023 t
 here will be three categories for the competition:\n\nFull beard: Self-exp
 lanatory\, for the truly bearded.\n\nPartial Beard or Mustache only (combi
 ned this year)\n\nFor those sporting Van Dykes\, Goatees\, Mutton Chops\, 
 and other\n\npartial beard styles -or-\n\nMustache only: Judging on the mu
 stache only\, even if bearded.\n\nBring your Handlebars\, Fu Manchus\, or 
 whatever adorns your upper lip.\n\nFreestyle: Anything goes\, including fa
 ke and creatively adorned beards. Creative women often do well in the Free
 style category.\n​
URL:https://forum.defcon.org/node/246753
DTSTART:20230812T220000Z
DTEND:20230813T000001Z
LOCATION:Contest Stage
END:VEVENT
END:VCALENDAR
