BEGIN:VCALENDAR
PRODID:-//vBulletin 6//EN
VERSION:2.0
CALSCALE:GREGORIAN
BEGIN:VEVENT
UID:e9c468db-52e6-4a9d-9779-6410f14a5556
DTSTAMP:20260421T221158Z
SUMMARY:Village People Party
DESCRIPTION:Village People Party\nLocation: Forum 115-116\nTime: Friday 21:
 00-01:00\n\nDescription:\nHosted by:\nCar Hacking Village\nICS Village\nAe
 rospace Village\nBiohacking Village\n\nMusic by NGHTHWK\n(We might have a 
 surprise guest)\n\nEach village will be passing out drink tickets at their
  booth (while supplies last!)​
URL:https://forum.defcon.org/node/246827
DTSTART:20230812T050000Z
DTEND:20230812T090001Z
LOCATION:Forum 115-116
END:VEVENT
END:VCALENDAR
