BEGIN:VCALENDAR
PRODID:-//vBulletin 6//EN
VERSION:2.0
CALSCALE:GREGORIAN
BEGIN:VEVENT
UID:e9727428-7325-47b7-9fb5-4211b26637e0
DTSTAMP:20260425T165444Z
SUMMARY:Threat Modeling: BYODesign Presentation
DESCRIPTION:Practice threat modeling on your own design! Be prepared to sho
 w off your design and take feedback/findings!\n\n\nRegistration required\,
  come by our booth on Friday to sign up for a slot.
URL:https://forum.defcon.org/node/247154
DTSTART:20230812T210000Z
DTEND:20230812T230001Z
LOCATION:DEF CON Contest Area\, Forum Ballroom
END:VEVENT
END:VCALENDAR
