BEGIN:VCALENDAR
PRODID:-//vBulletin 6//EN
VERSION:2.0
CALSCALE:GREGORIAN
BEGIN:VEVENT
UID:1ee1cb6f-6e8c-48ee-a7a2-44a0dfba39fc
DTSTAMP:20260425T154645Z
SUMMARY:&quot\;DEF CON Kids : Learn Threat Modeling \, Saturday 10:00-12:00
DESCRIPTION:Title : DEF CON Kids : Learn Threat Modeling\nLocation: DEF CON
  Contest Area\, Forum Ballroom\nWho is running it (like people and/or vill
 age or contest name) : DC’s Next Top Threat Model\nStart: Saturday 10:00
 \nEnd: Saturday 12:00\nDescription: Want to teach your kid threat modeling
 ? Are you new\, yourself?\n\nStop by our booth\, learn what threat modelin
 g is\, and get some practice with an introductory non-technical scenario.\
 n\nTwitter: @ThreatModelUs (https://twitter.com/ThreatModelUs)\n\nWeb: htt
 ps://www.threatmodel.us\n\n\n​
URL:https://forum.defcon.org/node/247206
DTSTART:20230812T180000Z
DTEND:20230812T200001Z
LOCATION:DEF CON Contest Area\, Forum Ballroom
END:VEVENT
END:VCALENDAR
