BEGIN:VCALENDAR
PRODID:-//vBulletin 6//EN
VERSION:2.0
CALSCALE:GREGORIAN
BEGIN:VEVENT
UID:3d5e0bbd-4215-4a5e-970e-51112a157269
DTSTAMP:20260420T042032Z
SUMMARY:DEF CON Workshops online registration expected to open 7/7 noon pac
 ific
DESCRIPTION:​​https://forum.defcon.org/node/248266#post248755\n\nAnnoun
 ced at the above URL: "Registration for Workshops Opens 7/7 at 12noon Paci
 fic​"
URL:https://forum.defcon.org/node/248758
DTSTART:20240707T200000Z
DTEND:20240707T210001Z
LOCATION:Online\, details where expected later
END:VEVENT
END:VCALENDAR
