BEGIN:VCALENDAR
PRODID:-//vBulletin 6//EN
VERSION:2.0
CALSCALE:GREGORIAN
BEGIN:VEVENT
UID:cde509e4-38ac-45d2-a62a-9e149ad856a5
DTSTAMP:20260419T203004Z
SUMMARY:Friends Of Bill Thursday 12:00-13:00
DESCRIPTION:..\n..\n\nFriends Of Bill\n\nThursday\, Friday\, Saturday: 12:0
 0-13:00\, 17:00-18:00 Sunday 12:00-13:00\nLocation: 301\n\nWe know DEF CON
  and Vegas can be a lot. If you're a friend of Bill W who's looking for a 
 meeting or just a place to collect yourself\, DEF CON 32 has you covered. 
 Join us throughout the conference in the Friends of Bill W Community Space
  in room 301. Meetings will be Thursday\, Friday\, Saturday: 12:00-13:00\,
  17:00-18:00 Sunday 12:00-13:00
URL:https://forum.defcon.org/node/249487
DTSTART:20240808T200000Z
DTEND:20240808T210001Z
LOCATION:Las Vegas\, NV\, DEF CON 32\, LVCC\, Room 301
END:VEVENT
END:VCALENDAR
