BEGIN:VCALENDAR
PRODID:-//vBulletin 6//EN
VERSION:2.0
CALSCALE:GREGORIAN
BEGIN:VEVENT
UID:2b29e778-8c83-47e3-a9c7-ad79c34e081a
DTSTAMP:20260423T184200Z
SUMMARY:Skynet : Craig Chamberlain : Rewanth Tammana
DESCRIPTION:Title: Skynet\nPresenter: Craig Chamberlain\nCo-Presenter: Rewa
 nth Tammana\nLocation: W306\nDay\,Time: Fri Aug 9 \, 12PM - 1:45PM\nAudien
 ce: Defense\nProject:\n\nAbstract:\nSkynet is an AI project (just kidding.
 ) It is meant to be a sort of unified theory of detection\, enabling us to
  plot any detection artifact types on screen around an entity and decision
  them faster and more accurately. While plotting alert sets\, attack trees
 \, and kill chains has been done\, for the presentation of alert sets and 
 cases\, we are planning to use graphing as the primary presentation\, tria
 ge and decisioning mechanism\, at scale\, using a novel combination of heu
 ristics and machine learning. It is an alert manager made by users\, for u
 sers.\n\nBios:\n* Presenter:\nCraig Chamberlain has been working on threat
  hunting and detection for most of his life and has contributed to several
  SIEM-like products you may have used. Most of them had unnecessarily simp
 le alert pages and workflow\, which makes him sad\, and this is his attemp
 t to put things right. He has presented at numerous conferences including 
 the SANS Threat Hunting Summit\; RSA 2024\; CactusCon\; the ISC2 Congress\
 ; SOURCE Boston\; and several B-Sides conferences in Washington DC\, San F
 rancisco\, NoVA\, Boston\, and Rochester.\n* Co-Presenter:\nRewanth Tamman
 a is a security ninja\, open-source contributor\, and an independent consu
 ltant. Previously\, Senior Security Architect at Emirates NBD National Ban
 k of Dubai). He is passionate about DevSecOps\, Cloud\, and Container Secu
 rity. He added 17\,000+ lines of code to Nmap. Rewanth speaks and delivers
  training at numerous security conferences worldwide. He was recognized as
  one of the MVP researchers on Bugcrowd (2018)\, published an IEEE researc
 h paper on ML and security\, and more.
URL:https://forum.defcon.org/node/249612
DTSTART:20240809T200000Z
DTEND:20240809T214501Z
LOCATION:W306
END:VEVENT
END:VCALENDAR
