BEGIN:VCALENDAR
PRODID:-//vBulletin 6//EN
VERSION:2.0
CALSCALE:GREGORIAN
BEGIN:VEVENT
UID:52cc05e2-5031-48be-8fb4-332a8d9eb22e
DTSTAMP:20260424T032745Z
SUMMARY:GC2 - The First Serverless Command &amp\; Control : Lorenzo Grazian
  :
DESCRIPTION:Title: GC2 - The First Serverless Command & Control\nPresenter:
  Lorenzo Grazian\nCo-Presenter:\nLocation: W306\nDay\,Time: Sat Aug 10 \, 
 12PM - 1:45PM\nAudience: Offense\, Defense\, DevOps\nProject: https://gith
 ub.com/looCiprian/GC2-sheet\n\nAbstract:\nGC2 is the first serverless comm
 and and control. This project aims to demonstrate how attackers could take
  advantage of third-party tools (Google Sheets and Google Drive) to execut
 e commands and exfiltrate information from a compromised system. First rel
 eased in 2021\, became well known in April 2023 after being mentioned in G
 oogle's Threat Horizons Report.\n\nBios:\n* Presenter:\nLorenzo Grazian ha
 s more than 6 years of experience in red teaming\, penetration testing and
  source code review mainly in the financial and transport industries. He w
 orked and led local and global cybersecurity projects. Besides his offensi
 ve security background\, he developed several tools to support offensive s
 ecurity activities.\n* Co-Presenter:
URL:https://forum.defcon.org/node/249630
DTSTART:20240810T200000Z
DTEND:20240810T214501Z
LOCATION:W306
END:VEVENT
END:VCALENDAR
