BEGIN:VCALENDAR
PRODID:-//vBulletin 6//EN
VERSION:2.0
CALSCALE:GREGORIAN
BEGIN:VEVENT
UID:9e3382c2-15a4-40ba-a8b7-4245e3571d10
DTSTAMP:20260419T185047Z
SUMMARY:Pinball High Score Contest\, Sunday 10:00-13:00
DESCRIPTION:..\n{"data-align":"none"\,"data-size":"full"\,"src":"https:\\/\
 \/forum.defcon.org\\/filedata\\/fetch?filedataid=4444&type=thumb&attachmen
 tnodeid="}\n..\n\n\nPinball High Score Contest \nIn-person contest\nFriday
  and Saturday: 10:00-18:00\, Sunday 10:00-13:00\nContest Area\, West Hall 
 4 \n\n\nThe inaugural Pinball High Score contest at DEF CON will run Frida
 y and Saturday: 10:00-18:00\, Sunday 10:00-13:00 with games available for 
 daily High Score contests\, daily challenges and open qualifying for a mai
 n tournament. The daily contests will allow any attendee to play pinball g
 ames and attempt to record a qualifying high score on each of the unique g
 ames. At 18:00 on Saturday main tournament qualifying will end and the top
  8 players with the highest combined scores across all eligible machines w
 ill qualify for the Sunday finals event where they could become the first 
 DEF CON Pinball Champion!\n\nAchieving a high score may sound simple but p
 inball rulesets are very complex and the skill to complete a “Wizard Mod
 e” or achieve a high score requires research\, practice\, knowledge and 
 execution. Out of the box thinking\, analytical skills and pattern recogni
 tion are traits that pinball players must exhibit to be successful and som
 e games have rule sets that can be studied and exploited to achieve a high
  score. Hackers are at an advantage here and while this is just a pinball 
 contest\, I expect that the community is ready for this challenge.\n\nSter
 n Pinball has prepared an exclusive DEF CON 32 digital badge that will be 
 available for any attendee to earn for playing in this event. Additional D
 EF CON specific Insider Connect badges may be unlocked during game play.\n
 \nPinball developers have a long history of including Easter Eggs/COWS in 
 games. Easter eggs “may” also be available for attendees to discover d
 uring the conference. Undocumented Easter eggs found by players during the
  event will be documented\, verified and recognized.
URL:https://forum.defcon.org/node/249860
DTSTART:20240811T180000Z
DTEND:20240811T210001Z
LOCATION:Contest Area\, West Hall 4
END:VEVENT
END:VCALENDAR
