BEGIN:VCALENDAR
PRODID:-//vBulletin 6//EN
VERSION:2.0
CALSCALE:GREGORIAN
BEGIN:VEVENT
UID:41e64dcc-810d-4d2b-bb88-2645b0b3559d
DTSTAMP:20260419T205304Z
SUMMARY:5n4ck3y\, Sunday 10:00-12:00
DESCRIPTION:..\n\n..\n\n5n4ck3y\n\nIn-person contest\nFriday and Saturday 1
 0:00-18:00\, Sunday: 10:00-12:00\n\nAND!XOR creates electronic badges fill
 ed with hacker challenges. We love doing this\, especially coming up with 
 unique ways for hackers to earn them. Introducing the newest member of our
  hacker-fam: 5N4CK3Y (Snackey). 5N4CK3Y is a vending machine hardware hack
 ing project from AND!XOR. We retrofitted it into an IoT CTF based badge di
 spensing machine\, bling and all. Find a flag on our web hosted CTF platfo
 rm\, you get a 5N4CK3Y dispense code\, punch it in\, and a badge is vended
  to you! There are a variety of challenges to earn a badge as well others 
 to continue working on the badge itself once obtained. These span from har
 dware hacking\, reverse engineering\, OSINT\, network security\, and crypt
 ography to name a few. There's a little bit of everything\, so it's a perf
 ect way to learn something at one of the many DEF CON villages and talking
  with people you meet\, then attempt one of the CTF challenges to dispense
  a badge. Hardware hacking is our passion and we want people to learn on b
 adges\, but more importantly that there's a lot to learn at DEF CON so our
  CTF will hopefully serve a desire to learn something new and meet new fri
 ends while trying to earn a badge and hack it further.\n\nTwitter: @ANDnXO
 R (https://twitter.com/ANDnXOR)
URL:https://forum.defcon.org/node/249887
DTSTART:20240811T180000Z
DTEND:20240811T200001Z
END:VEVENT
END:VCALENDAR
