BEGIN:VCALENDAR
PRODID:-//vBulletin 6//EN
VERSION:2.0
CALSCALE:GREGORIAN
BEGIN:VEVENT
UID:a5f91263-e584-4869-8e61-c996ff1d779a
DTSTAMP:20260420T065800Z
SUMMARY:DEF CON  35 Las Vegas
DESCRIPTION:DEF CON 35 will be held August 5 to August 8\, 2027
URL:https://forum.defcon.org/node/253966
DTSTART;VALUE=DATE:20270805
DTEND;VALUE=DATE:20270809
LOCATION:Las Vegas Convention Center
END:VEVENT
END:VCALENDAR
