BEGIN:VCALENDAR
PRODID:-//vBulletin 6//EN
VERSION:2.0
CALSCALE:GREGORIAN
BEGIN:VEVENT
UID:1ff8ce15-9e3a-4502-a04e-fcea51f8ba31
DTSTAMP:20260423T035319Z
SUMMARY:DEF CON 34 Early Bird Pricing Ends
DESCRIPTION:The wait is over. Preregistration for DEF CON 34 opens TODAY!\n
 \nReminder – the cash route is unchanged: Cash at the door registration 
 (LineCon) will continue in its traditional\, vibey fashion (think hacker s
 lumber party). Doors open Thursday\, August 6 and the price is $520.\n\nTh
 ose who pre-register are guaranteed a human badge\, even if we run out. To
  receive this badge\, you must redeem your ticket onsite. The badge entitl
 es one human full access to the DEF CON floor during open hours. Tickets a
 re fully transferrable\, so which human gets that access is up to the purc
 haser.\n\nPre-reg is open at shop.defcon.org until July 31 at 8:59 PM EDT.
  After that date registration is LineCon only. If you have any questions o
 r need to make bulk purchases please email us at info@defcon.org.\n\nThere
  are some pricing benefits to early registration\, too. Early bookers save
  money\, so don’t procrastinate. August will be here before you know it.
 \n\nTIcket Pricing:\n\nEarly BIrd - $560 ($540 + $20 CC Processing Fee) - 
 Good until May 22 at 8:59pm EDT\n\nRegular - $580 ($560 + $20 CC Processin
 g Fee) - Good from May 23 to July 17 at 8:59pm EDT\n\nLate - $600 ($580 + 
 $20 CC Processing Fee) - Good from July 18 to July 31 at 8:59pm EDT\n\nTic
 ket Cancellation Fee:\n\nBefore July 18 - $34\n\nAfter July 18 - $84
URL:https://forum.defcon.org/node/255478
DTSTART;VALUE=DATE:20260522
END:VEVENT
END:VCALENDAR
